BEGIN:VCALENDAR
VERSION:2.0
PRODID:-//FINVAC - ECPv6.15.20//NONSGML v1.0//EN
CALSCALE:GREGORIAN
METHOD:PUBLISH
X-WR-CALNAME:FINVAC
X-ORIGINAL-URL:https://finvac.org
X-WR-CALDESC:Tapahtumat FINVAC
REFRESH-INTERVAL;VALUE=DURATION:PT1H
X-Robots-Tag:noindex
X-PUBLISHED-TTL:PT1H
BEGIN:VTIMEZONE
TZID:Europe/Helsinki
BEGIN:DAYLIGHT
TZOFFSETFROM:+0200
TZOFFSETTO:+0300
TZNAME:EEST
DTSTART:20200329T010000
END:DAYLIGHT
BEGIN:STANDARD
TZOFFSETFROM:+0300
TZOFFSETTO:+0200
TZNAME:EET
DTSTART:20201025T010000
END:STANDARD
BEGIN:DAYLIGHT
TZOFFSETFROM:+0200
TZOFFSETTO:+0300
TZNAME:EEST
DTSTART:20210328T010000
END:DAYLIGHT
BEGIN:STANDARD
TZOFFSETFROM:+0300
TZOFFSETTO:+0200
TZNAME:EET
DTSTART:20211031T010000
END:STANDARD
BEGIN:DAYLIGHT
TZOFFSETFROM:+0200
TZOFFSETTO:+0300
TZNAME:EEST
DTSTART:20220327T010000
END:DAYLIGHT
BEGIN:STANDARD
TZOFFSETFROM:+0300
TZOFFSETTO:+0200
TZNAME:EET
DTSTART:20221030T010000
END:STANDARD
END:VTIMEZONE
BEGIN:VEVENT
DTSTART;VALUE=DATE:20210309
DTEND;VALUE=DATE:20210310
DTSTAMP:20260425T230514
CREATED:20200915T085811Z
LAST-MODIFIED:20210203T080507Z
UID:1280-1615248000-1615334399@finvac.org
SUMMARY:Sisäilmastoseminaari 2021
DESCRIPTION:Sisäilmastoseminaari järjestetään tänä vuonna verkossa 9.3.2021 – perustutkinto-opiskelijat mukaan maksutta! \nSisäilmastoseminaari tarjoaa päivän aikana kahdella ohjelmastriimillä mielenkiintoisia\, monipuolisia sisäilma-aiheisia esityksiä\, posteriesityksiä ja virtuaalisen sisäilma-aiheisen näyttelyn. Päivä tarjoaa upean mahdollisuuden täydentää sisäilma-alan osaamista ja verkostoitua alan ihmisten kanssa. \nSisäilmayhdistys tarjoaa perustutkinto-opiskelijoille mahdollisuuden osallistua sisäilma-alan suurimpaan vuosittaiseen seminaariin. Seminaari on perustutkinto-opiskelijoille maksuton. \nOhjelma julkaistaan ja ilmoittautuminen aukeaa 9.2.2021 osoitteessa sisailmayhdistys.fi.
URL:https://finvac.org/event/sisailmastoseminaari-2021/
LOCATION:Messukeskus Siipi\, Messuaukio 1\, Helsinki\, 00520\, Suomi
ATTACH;FMTTYPE=image/jpeg:https://finvac.org/wp-content/uploads/2020/09/sisailmastoseminaari_pieni_medium.jpg
END:VEVENT
END:VCALENDAR