BEGIN:VCALENDAR
VERSION:2.0
PRODID:-//FINVAC - ECPv6.15.20//NONSGML v1.0//EN
CALSCALE:GREGORIAN
METHOD:PUBLISH
X-ORIGINAL-URL:https://finvac.org
X-WR-CALDESC:Tapahtumat FINVAC
REFRESH-INTERVAL;VALUE=DURATION:PT1H
X-Robots-Tag:noindex
X-PUBLISHED-TTL:PT1H
BEGIN:VTIMEZONE
TZID:Europe/Helsinki
BEGIN:DAYLIGHT
TZOFFSETFROM:+0200
TZOFFSETTO:+0300
TZNAME:EEST
DTSTART:20200329T010000
END:DAYLIGHT
BEGIN:STANDARD
TZOFFSETFROM:+0300
TZOFFSETTO:+0200
TZNAME:EET
DTSTART:20201025T010000
END:STANDARD
BEGIN:DAYLIGHT
TZOFFSETFROM:+0200
TZOFFSETTO:+0300
TZNAME:EEST
DTSTART:20210328T010000
END:DAYLIGHT
BEGIN:STANDARD
TZOFFSETFROM:+0300
TZOFFSETTO:+0200
TZNAME:EET
DTSTART:20211031T010000
END:STANDARD
BEGIN:DAYLIGHT
TZOFFSETFROM:+0200
TZOFFSETTO:+0300
TZNAME:EEST
DTSTART:20220327T010000
END:DAYLIGHT
BEGIN:STANDARD
TZOFFSETFROM:+0300
TZOFFSETTO:+0200
TZNAME:EET
DTSTART:20221030T010000
END:STANDARD
END:VTIMEZONE
BEGIN:VEVENT
DTSTART;TZID=Europe/Helsinki:20210525T090000
DTEND;TZID=Europe/Helsinki:20210525T103000
DTSTAMP:20260425T193303
CREATED:20210430T060605Z
LAST-MODIFIED:20210526T061531Z
UID:1466-1621933200-1621938600@finvac.org
SUMMARY:FINVAC webinaari - Rakennuksien kulutusjousto osana älykästä energiajärjestelmää
DESCRIPTION:Uusiutuvien energialähteiden käytön lisääntyessä energiajärjestelmässä tarvitaan nykyistä enemmän joustavuutta. Tällöin kiinteistöjen ja kiinteistöklustereiden energiajärjestelmien odotetaan osallistuvan myös energian kysynnän ja tarjonnan tasapainottamiseen. Rakennuksien osuus sähkön tarpeesta on yli 70%\, joten niiden mahdollisuudet tarjota sähköverkon tehoreserviä ovat huomattavat. Lähitulevaisuudessa kaukolämpöjärjestelmissä tarvitaan myös enemmän joustavuutta\, jolla tuotannossa voidaan mahdollisimman paljon hyödyntää uusiutuvaa energiatuotantoa. Tällöin kaukolämmitetyissä rakennuksissa voidaan leikata lämmitystehoa ja hyödyntää rakennuksen termistä massaa lyhytaikaisena energiavarastona. Tällä hetkellä teknisiä ratkaisuja ja menetelmiä on tarjolla\, mutta niiden hyödyntäminen kiinteistömarkkinoilla on vielä suhteellisen vähäistä. \nKatso tallenne ja tutustu esityksiin…\nOhjelma\n9:00 Avaus\, prof. Risto Kosonen \nIsojen kiinteistöjen mahdollisuudet ja haasteet hyödyntää Fingridin taajuusohjattuja reservimarkkinoita\nRyhmäpäällikkö\, Alueelliset energiaratkaisut Jussi-Pekka Kuivala\, Granlund Oy \nKaukolämmön kulutusjoustopotentiaali kiinteistön omistajan ja energiatuotannon kannalta\nVanhempi tutkija\, TkT Juha Jokisalo\, Aalto-yliopisto \nÄlykkäiden energiaratkaisujen merkitys kiinteistömarkkinoilla\nTohtoriopiskelija\, DI Eerika Janhunen\, Aalto-yliopisto \nKysymykset \n10:30 Webinaari päättyy \n  \nIlmoittaudu webinaariin tästä\nTilaisuus on maksuton.
URL:https://finvac.org/event/finvac-webinaari-rakennuksien-kulutusjousto-osana-alykasta-energiajarjestelmaa/
LOCATION:Online
ATTACH;FMTTYPE=image/jpeg:https://finvac.org/wp-content/uploads/2021/04/Webinaari-25.5.2021_640x250-scaled.jpg
END:VEVENT
END:VCALENDAR