BEGIN:VCALENDAR
VERSION:2.0
PRODID:-//FINVAC - ECPv6.15.20//NONSGML v1.0//EN
CALSCALE:GREGORIAN
METHOD:PUBLISH
X-WR-CALNAME:FINVAC
X-ORIGINAL-URL:https://finvac.org
X-WR-CALDESC:Tapahtumat FINVAC
REFRESH-INTERVAL;VALUE=DURATION:PT1H
X-Robots-Tag:noindex
X-PUBLISHED-TTL:PT1H
BEGIN:VTIMEZONE
TZID:Europe/Helsinki
BEGIN:DAYLIGHT
TZOFFSETFROM:+0200
TZOFFSETTO:+0300
TZNAME:EEST
DTSTART:20200329T010000
END:DAYLIGHT
BEGIN:STANDARD
TZOFFSETFROM:+0300
TZOFFSETTO:+0200
TZNAME:EET
DTSTART:20201025T010000
END:STANDARD
BEGIN:DAYLIGHT
TZOFFSETFROM:+0200
TZOFFSETTO:+0300
TZNAME:EEST
DTSTART:20210328T010000
END:DAYLIGHT
BEGIN:STANDARD
TZOFFSETFROM:+0300
TZOFFSETTO:+0200
TZNAME:EET
DTSTART:20211031T010000
END:STANDARD
BEGIN:DAYLIGHT
TZOFFSETFROM:+0200
TZOFFSETTO:+0300
TZNAME:EEST
DTSTART:20220327T010000
END:DAYLIGHT
BEGIN:STANDARD
TZOFFSETFROM:+0300
TZOFFSETTO:+0200
TZNAME:EET
DTSTART:20221030T010000
END:STANDARD
END:VTIMEZONE
BEGIN:VEVENT
DTSTART;VALUE=DATE:20210621
DTEND;VALUE=DATE:20210624
DTSTAMP:20260425T175256
CREATED:20200821T093324Z
LAST-MODIFIED:20200821T093324Z
UID:1226-1624233600-1624492799@finvac.org
SUMMARY:Healthy Buildings Europe 2021 conference
DESCRIPTION:Organized every 2 years\, during years with no Indoor Air conference\, Healthy Buildings conferences bridge the gap between science and profession\, making it one of the most influential conferences on best-practice sustainable solutions for the indoor environment.\nWe are planning a truly wonderful technical and social programme in Oslo\, sharing with you the midsummer delights of this beautiful harbour city with midnight twilight\, in one of world’s most sustainable cities[*]\, interwoven with joint webevents with Healthy Buildings 2021 – America.\nHealthy Buildings Europe 2021 is organized by OsloMet (Oslo Metropolitan University)\, SINTEF and NTNU (Norwegian University of Science and Technology)\, under the auspices of ISIAQ (International Society for Indoor Air Quality).
URL:https://finvac.org/event/healthy-buildings-europe-2021-conference/
LOCATION:Oslo Metropolitan University\, Pilestredet 32\, Oslo\, Norja
ATTACH;FMTTYPE=image/png:https://finvac.org/wp-content/uploads/2020/08/HB2021_logo.png
END:VEVENT
END:VCALENDAR