BEGIN:VCALENDAR
VERSION:2.0
PRODID:-//FINVAC - ECPv6.15.20//NONSGML v1.0//EN
CALSCALE:GREGORIAN
METHOD:PUBLISH
X-WR-CALNAME:FINVAC
X-ORIGINAL-URL:https://finvac.org
X-WR-CALDESC:Tapahtumat FINVAC
REFRESH-INTERVAL;VALUE=DURATION:PT1H
X-Robots-Tag:noindex
X-PUBLISHED-TTL:PT1H
BEGIN:VTIMEZONE
TZID:Europe/Helsinki
BEGIN:DAYLIGHT
TZOFFSETFROM:+0200
TZOFFSETTO:+0300
TZNAME:EEST
DTSTART:20200329T010000
END:DAYLIGHT
BEGIN:STANDARD
TZOFFSETFROM:+0300
TZOFFSETTO:+0200
TZNAME:EET
DTSTART:20201025T010000
END:STANDARD
BEGIN:DAYLIGHT
TZOFFSETFROM:+0200
TZOFFSETTO:+0300
TZNAME:EEST
DTSTART:20210328T010000
END:DAYLIGHT
BEGIN:STANDARD
TZOFFSETFROM:+0300
TZOFFSETTO:+0200
TZNAME:EET
DTSTART:20211031T010000
END:STANDARD
BEGIN:DAYLIGHT
TZOFFSETFROM:+0200
TZOFFSETTO:+0300
TZNAME:EEST
DTSTART:20220327T010000
END:DAYLIGHT
BEGIN:STANDARD
TZOFFSETFROM:+0300
TZOFFSETTO:+0200
TZNAME:EET
DTSTART:20221030T010000
END:STANDARD
END:VTIMEZONE
BEGIN:VEVENT
DTSTART;VALUE=DATE:20210913
DTEND;VALUE=DATE:20210916
DTSTAMP:20260425T131943
CREATED:20200610T125521Z
LAST-MODIFIED:20200813T100645Z
UID:752-1631491200-1631750399@finvac.org
SUMMARY:IAQ 2020: Indoor Environmental Quality Performance Approaches
DESCRIPTION:IAQ 2020 Rescheduled\nAfter careful consideration by the Steering Committee and from input by authors\, ASHRAE and AIVC have decided to postpone the conference\, which was scheduled for September 14-16\, 2020 in Athens\, Greece. \nThe IAQ 2020 conference is being postponed by one year to September 13-15\, 2021 as a face-to-face conference in Athens\, Greece.
URL:https://finvac.org/event/iaq-2020-indoor-environmental-quality-performance-approaches/
END:VEVENT
END:VCALENDAR