BEGIN:VCALENDAR
VERSION:2.0
PRODID:-//FINVAC - ECPv6.15.20//NONSGML v1.0//EN
CALSCALE:GREGORIAN
METHOD:PUBLISH
X-ORIGINAL-URL:https://finvac.org
X-WR-CALDESC:Tapahtumat FINVAC
REFRESH-INTERVAL;VALUE=DURATION:PT1H
X-Robots-Tag:noindex
X-PUBLISHED-TTL:PT1H
BEGIN:VTIMEZONE
TZID:Europe/Helsinki
BEGIN:DAYLIGHT
TZOFFSETFROM:+0200
TZOFFSETTO:+0300
TZNAME:EEST
DTSTART:20210328T010000
END:DAYLIGHT
BEGIN:STANDARD
TZOFFSETFROM:+0300
TZOFFSETTO:+0200
TZNAME:EET
DTSTART:20211031T010000
END:STANDARD
BEGIN:DAYLIGHT
TZOFFSETFROM:+0200
TZOFFSETTO:+0300
TZNAME:EEST
DTSTART:20220327T010000
END:DAYLIGHT
BEGIN:STANDARD
TZOFFSETFROM:+0300
TZOFFSETTO:+0200
TZNAME:EET
DTSTART:20221030T010000
END:STANDARD
BEGIN:DAYLIGHT
TZOFFSETFROM:+0200
TZOFFSETTO:+0300
TZNAME:EEST
DTSTART:20230326T010000
END:DAYLIGHT
BEGIN:STANDARD
TZOFFSETFROM:+0300
TZOFFSETTO:+0200
TZNAME:EET
DTSTART:20231029T010000
END:STANDARD
END:VTIMEZONE
BEGIN:VEVENT
DTSTART;TZID=Europe/Helsinki:20220505T090000
DTEND;TZID=Europe/Helsinki:20220505T103000
DTSTAMP:20260424T235505
CREATED:20220419T114901Z
LAST-MODIFIED:20220506T080143Z
UID:1907-1651741200-1651746600@finvac.org
SUMMARY:FINVAC webinaari – Jäähdytyksen mitoitus rakennuksen ylilämpenemistä vastaan
DESCRIPTION:Globaalin ilmastonmuutoksen seurauksena ilmasto on lämmennyt Suomessakin noin kaksi astetta viimeisen sadan vuoden aikana. Keskilämpötilan nousemisen lisäksi ilmastonmuutoksen seurauksena ääri-ilmiöt ovat yleistyneet ja Suomessa tulevaisuudessa esiintyy yhä pidempiä lämpimämpiä sääjaksoja. Tämä aiheuttaa kasvavan ylilämpenemisriskin\, johon tulee varautua. \nUusien rakennuksien suunnittelua ohjaa Ympäristöministeriön asetus\, jonka mukaan uusien rakennuksien suunnittelun yhteydessä tulee osoittaa\, että kesäaikainen huoneilman lämpötila ei ylitä 27 oC yli 150 Kh. Laskennassa tulee käyttää lähteessä säädöksessä kuvattuja lähtötietoja mm. sisäisille lämpökuormille ja käyttää TRY2012- testisäätä. \nTässä webinaarissa esitetään kuinka nykyiset ja tulevaisuuden hellejakson poikkeavat nykyisestä testisäästä (TRY2012). Lisäksi esityksissä käydään läpi\, kuinka passiviisillä keinoilla voidaan pienentää tarvittavaa jäähdytystarvetta ja esitellään näkökohtia jäähdytyksen käytännön suunnitteluun. \nTutustu esityksiin ja katso tallenne täältä…\nOhjelma\n9:00 Avaus\, Risto Kosonen\, FINVAC/ Aalto-yliopisto \nJäähdytyksen mitoituspäivän valinta nykyisessä ja tulevaisuuden ilmastossa \nJuha Jokisalo\, Aalto-yliopisto  \nPassiivisten keinojen merkitys jäähdytystarpeen mitoituksessa  \nHannu Sipilä\, Suomen Aurinkosuojaus ry \nJäähdytyksen suunnittelu- mihin asioihin tulisi kiinnittää huomiota?   \nMika Vuolle\, Equa Finland Oy  \nKysymykset \n10:30 Webinaari päättyy \n  \nIlmoittautuminen\nTilaisuus on maksuton. \n  \nPuhujat\nJuha Jokisalo \nTkT Juha Jokisalo on toiminut yli 20 vuotta rakennusten energiatehokkuuteen\, sisäilmastoon ja LVI-tekniikkaan liittyvissä tutkimustehtävissä. \nHän toimii tällä hetkellä vanhempana tutkijana Aalto-yliopistossa LVI-tekniikan tutkimusryhmässä. \n  \n  \n  \n  \nHannu Sipilä \nHannu Sipilällä on yli 50 vuoden kokemus rakennusten energiatehokkuuteen liittyvissä haasteissa\, niin teollisuudessa kuin alan ammattijärjestöissä. \nSuomen LVI-liitossa 7 vuotta toiminnanjohtajana ja nyt viimeiset 8 vuotta Suomen Aurinkosuojaus ry:ssä toiminnanjohtajana. \n  \n  \n  \n  \n  \n \nMika Vuolle \nTkL Mika Vuolle on Equa Simulation Finland Oy:n toimitusjohtaja ja on työskennellyt IDA-projektissa vuodesta 1995. \nMika on ollut mukana myös ympäristöministeriön energiamääräysten ja energiatodistuksen kehittämisessä sekä toiminut aktiivisesti SuLVIn koulutustoiminnassa. \nMika on Sisäilmayhdistyksen hallituksen jäsen. \n  \n  \n  \n 
URL:https://finvac.org/event/finvac-webinaari-jaahdytyksen-mitoitus-rakennuksen-ylilampenemista-vastaan/
LOCATION:Online
ATTACH;FMTTYPE=image/jpeg:https://finvac.org/wp-content/uploads/2022/04/finvacwebinaari0505_1_original.jpg
END:VEVENT
END:VCALENDAR