BEGIN:VCALENDAR
VERSION:2.0
PRODID:-//FINVAC - ECPv6.15.20//NONSGML v1.0//EN
CALSCALE:GREGORIAN
METHOD:PUBLISH
X-WR-CALNAME:FINVAC
X-ORIGINAL-URL:https://finvac.org
X-WR-CALDESC:Tapahtumat FINVAC
REFRESH-INTERVAL;VALUE=DURATION:PT1H
X-Robots-Tag:noindex
X-PUBLISHED-TTL:PT1H
BEGIN:VTIMEZONE
TZID:Europe/Helsinki
BEGIN:DAYLIGHT
TZOFFSETFROM:+0200
TZOFFSETTO:+0300
TZNAME:EEST
DTSTART:20210328T010000
END:DAYLIGHT
BEGIN:STANDARD
TZOFFSETFROM:+0300
TZOFFSETTO:+0200
TZNAME:EET
DTSTART:20211031T010000
END:STANDARD
BEGIN:DAYLIGHT
TZOFFSETFROM:+0200
TZOFFSETTO:+0300
TZNAME:EEST
DTSTART:20220327T010000
END:DAYLIGHT
BEGIN:STANDARD
TZOFFSETFROM:+0300
TZOFFSETTO:+0200
TZNAME:EET
DTSTART:20221030T010000
END:STANDARD
BEGIN:DAYLIGHT
TZOFFSETFROM:+0200
TZOFFSETTO:+0300
TZNAME:EEST
DTSTART:20230326T010000
END:DAYLIGHT
BEGIN:STANDARD
TZOFFSETFROM:+0300
TZOFFSETTO:+0200
TZNAME:EET
DTSTART:20231029T010000
END:STANDARD
END:VTIMEZONE
BEGIN:VEVENT
DTSTART;VALUE=DATE:20221114
DTEND;VALUE=DATE:20221116
DTSTAMP:20260424T141812
CREATED:20221014T165939Z
LAST-MODIFIED:20221014T165939Z
UID:2067-1668384000-1668556799@finvac.org
SUMMARY:REHVA Brussels Summit 2022
DESCRIPTION:The first day of the summit\, 14 November is dedicated to REHVA strategic activities and standing committee meetings – Venue: MAI conference centre\, Rue Washington 40\, 1050 Brussels. The committee meetings are open to the REHVA members only. \nThe Policy conference will take place the next day\, 15 November\, at the Thon Hotel Stephanie Bristol. \nThe conference will cover two interlinked topics with speakers from the European Parliament and the Commission\, EU think thanks and associations along REHVA experts. The morning session on Healthy Zero Emission Buildings with the EPBD will tackle: \n\nEP and EC positions on healthy zero emission buildings in the EPBD review\nthe definition of “zero emission buildings”\nnational policy examples and measures to tackle building decarbonisation\n\nThe afternoon session will focus on the REpowerEU & the phase-out if fossil fuels in heating and cooling. After setting the scene by presentations about: \n\nREpowerEU policy context for the budling HVAC sector\nEcodesign requirements on decarbonisation\nthe new REHVA Task Force on Building decarbonisation\,\n\nrepresentatives of REHVA supporters and EU level industry associations will join the panellist in a moderated\, interactive discussion on the practical feasibility\, timeline and challenges of banning fossil fuels in heating and cooling.
URL:https://finvac.org/event/rehva-brussels-summit-2022/
LOCATION:Brussels\, Belgia
END:VEVENT
END:VCALENDAR