BEGIN:VCALENDAR
VERSION:2.0
PRODID:-//FINVAC - ECPv6.15.20//NONSGML v1.0//EN
CALSCALE:GREGORIAN
METHOD:PUBLISH
X-WR-CALNAME:FINVAC
X-ORIGINAL-URL:https://finvac.org
X-WR-CALDESC:Tapahtumat FINVAC
REFRESH-INTERVAL;VALUE=DURATION:PT1H
X-Robots-Tag:noindex
X-PUBLISHED-TTL:PT1H
BEGIN:VTIMEZONE
TZID:Europe/Helsinki
BEGIN:DAYLIGHT
TZOFFSETFROM:+0200
TZOFFSETTO:+0300
TZNAME:EEST
DTSTART:20210328T010000
END:DAYLIGHT
BEGIN:STANDARD
TZOFFSETFROM:+0300
TZOFFSETTO:+0200
TZNAME:EET
DTSTART:20211031T010000
END:STANDARD
BEGIN:DAYLIGHT
TZOFFSETFROM:+0200
TZOFFSETTO:+0300
TZNAME:EEST
DTSTART:20220327T010000
END:DAYLIGHT
BEGIN:STANDARD
TZOFFSETFROM:+0300
TZOFFSETTO:+0200
TZNAME:EET
DTSTART:20221030T010000
END:STANDARD
BEGIN:DAYLIGHT
TZOFFSETFROM:+0200
TZOFFSETTO:+0300
TZNAME:EEST
DTSTART:20230326T010000
END:DAYLIGHT
BEGIN:STANDARD
TZOFFSETFROM:+0300
TZOFFSETTO:+0200
TZNAME:EET
DTSTART:20231029T010000
END:STANDARD
END:VTIMEZONE
BEGIN:VEVENT
DTSTART;TZID=Europe/Helsinki:20221121T090000
DTEND;TZID=Europe/Helsinki:20221121T103000
DTSTAMP:20260424T141643
CREATED:20221103T194725Z
LAST-MODIFIED:20221121T182227Z
UID:2106-1669021200-1669026600@finvac.org
SUMMARY:FINVAC webinaari - Kiinteistödatan hyödyntäminen energiakorjausten ja talotekniikan optimaalisen toiminnan varmistamisessa
DESCRIPTION:Rakennussektorin osuus energiankäytöstä on noin 40 %. Tämän energiakulutuksen pienentämiseen on tärkeä löytää ne rakennukset ja tekniset ratkaisut\, jotka ovat kustannustehokkaimmat. Monet näistä kustannustehokkaista keinoista eivät vaadi merkittäviä investointeja vaan perustuvat talotekniikan järkevään ylläpitoon ja toiminnan ohjaukseen. On arvioitu\, että ”puutteellisesti huolletut\, huonokuntoiset ja ei-optimaaliset järjestelmät hukkaavat arviolta 15–30 prosenttia rakennuksissa käytetystä energiasta”. \nData-analytiikan avulla voidaan tehokkaasti hyödyntää kiinteistöistä kerättyjä mittaustietoa ja sen perusteella optimoida energiakorjauksia ja talotekniikkajärjestelmien käyttöä. Tekoälyn käyttö mahdollistaa uusia palveluita\, joita perinteisillä menetelmillä ei ole mahdollista. \nTässä webinaarissa esitetään ratkaisumalleja\, kuinka kiinteistödataa voidaan hyödyntää energiakorjauspäätöksien tekemisessä\, järjestelmien optimaalisen huollon toteutuksessa ja energiankäytön hallinnassa. \nTutustu esityksiin ja katso tallenne täältä\n  \nOhjelma\n9:00 Avaus\, Risto Kosonen\, FINVAC/ Aalto-yliopisto \nKiinteistökannan energiakorjausten optimointi tekoälyä hyödyntäen \nJussi From\, Granlund Oy  \nAnalytiikan käyttö talotekniikan toiminnan varmistamisessa  \nTuomo Härkönen\, Caverion Oy  \nTekoälyn käyttö energiankulutuksen optimoinnissa\nMikko Maja\, Nuuka Solutions Oy  \nKysymykset \n10:30 Webinaari päättyy \n  \nIlmoittaudu webinaariin viimeistään 18.11.2022 klo 23:00 \nIlmoittautuminen\nTilaisuus on maksuton.
URL:https://finvac.org/event/finvac-webinaari-kiinteistodatan-hyodyntaminen-energiakorjausten-ja-talotekniikan-optimaalisen-toiminnan-varmistamisessa/
LOCATION:Online
ATTACH;FMTTYPE=image/png:https://finvac.org/wp-content/uploads/2022/11/FINVAC_webinaari-211122.png
END:VEVENT
END:VCALENDAR