BEGIN:VCALENDAR
VERSION:2.0
PRODID:-//FINVAC - ECPv6.15.20//NONSGML v1.0//EN
CALSCALE:GREGORIAN
METHOD:PUBLISH
X-WR-CALNAME:FINVAC
X-ORIGINAL-URL:https://finvac.org
X-WR-CALDESC:Tapahtumat FINVAC
REFRESH-INTERVAL;VALUE=DURATION:PT1H
X-Robots-Tag:noindex
X-PUBLISHED-TTL:PT1H
BEGIN:VTIMEZONE
TZID:Europe/Helsinki
BEGIN:DAYLIGHT
TZOFFSETFROM:+0200
TZOFFSETTO:+0300
TZNAME:EEST
DTSTART:20220327T010000
END:DAYLIGHT
BEGIN:STANDARD
TZOFFSETFROM:+0300
TZOFFSETTO:+0200
TZNAME:EET
DTSTART:20221030T010000
END:STANDARD
BEGIN:DAYLIGHT
TZOFFSETFROM:+0200
TZOFFSETTO:+0300
TZNAME:EEST
DTSTART:20230326T010000
END:DAYLIGHT
BEGIN:STANDARD
TZOFFSETFROM:+0300
TZOFFSETTO:+0200
TZNAME:EET
DTSTART:20231029T010000
END:STANDARD
BEGIN:DAYLIGHT
TZOFFSETFROM:+0200
TZOFFSETTO:+0300
TZNAME:EEST
DTSTART:20240331T010000
END:DAYLIGHT
BEGIN:STANDARD
TZOFFSETFROM:+0300
TZOFFSETTO:+0200
TZNAME:EET
DTSTART:20241027T010000
END:STANDARD
END:VTIMEZONE
BEGIN:VEVENT
DTSTART;VALUE=DATE:20230814
DTEND;VALUE=DATE:20230819
DTSTAMP:20260423T231710
CREATED:20230214T170333Z
LAST-MODIFIED:20230214T170505Z
UID:2211-1691971200-1692403199@finvac.org
SUMMARY:SuDBE 2023
DESCRIPTION:The 11th International Conference on Sustainable Development in the Building and Environment will be held in Finland from 14th to 18th of August 2023. The SuDBE2023 International Conference is to encourage academics\, designers and engineers\, policy-makers\, and research students to share the most up-to-date research outcomes and practical experience in green buildings and low-carbon eco-cities. \nMore info…
URL:https://finvac.org/event/sudbe-2023/
LOCATION:Aalto University\, Otaniemi\, Espoo\, Suomi
END:VEVENT
END:VCALENDAR