BEGIN:VCALENDAR
VERSION:2.0
PRODID:-//FINVAC - ECPv6.15.20//NONSGML v1.0//EN
CALSCALE:GREGORIAN
METHOD:PUBLISH
X-ORIGINAL-URL:https://finvac.org
X-WR-CALDESC:Tapahtumat FINVAC
REFRESH-INTERVAL;VALUE=DURATION:PT1H
X-Robots-Tag:noindex
X-PUBLISHED-TTL:PT1H
BEGIN:VTIMEZONE
TZID:Europe/Helsinki
BEGIN:DAYLIGHT
TZOFFSETFROM:+0200
TZOFFSETTO:+0300
TZNAME:EEST
DTSTART:20190331T010000
END:DAYLIGHT
BEGIN:STANDARD
TZOFFSETFROM:+0300
TZOFFSETTO:+0200
TZNAME:EET
DTSTART:20191027T010000
END:STANDARD
BEGIN:DAYLIGHT
TZOFFSETFROM:+0200
TZOFFSETTO:+0300
TZNAME:EEST
DTSTART:20200329T010000
END:DAYLIGHT
BEGIN:STANDARD
TZOFFSETFROM:+0300
TZOFFSETTO:+0200
TZNAME:EET
DTSTART:20201025T010000
END:STANDARD
BEGIN:DAYLIGHT
TZOFFSETFROM:+0200
TZOFFSETTO:+0300
TZNAME:EEST
DTSTART:20210328T010000
END:DAYLIGHT
BEGIN:STANDARD
TZOFFSETFROM:+0300
TZOFFSETTO:+0200
TZNAME:EET
DTSTART:20211031T010000
END:STANDARD
END:VTIMEZONE
BEGIN:VEVENT
DTSTART;TZID=Europe/Helsinki:20201124T090000
DTEND;TZID=Europe/Helsinki:20201124T103000
DTSTAMP:20260426T035548
CREATED:20201013T130429Z
LAST-MODIFIED:20201124T104002Z
UID:1326-1606208400-1606213800@finvac.org
SUMMARY:FINVAC webinaari – Lämmönvarastoinnin hyödyt ja potentiaali tulevaisuuden energiajoustavissa rakennuksissa
DESCRIPTION:Löydät pidetyt esitykset täältä…\n\nOhjelma\n9:00 Avaus\, prof. Risto Kosonen  \nLämmön varastoinnin tekniset ratkaisut osana rakennuksen energiajärjestelmää\nprof. Annukka Santasalo-Aarnio\, Aalto-yliopisto \nGeoenergia käyttöpotentiaali Suomessa\njohtava asiantuntija\, FT Teppo Arola\, GTK \nAlue- ja rakennustason lämmön varastoinnin mahdollisuudet\ntutkija\, TkT Janne Hirvonen\, Aalto-yliopisto \nEnergiavarastointi osana energiaratkaisua\ntoiminnanjohtaja\, DI Jussi Hirvonen\, Suomen lämpöpumppuyhdistys \nKysymykset \n10:30 Webinaari päättyy (tarvittaessa keskustelua on mahdollista jatkaa klo 11 asti) \n  \nIlmoittautuminen\nIlmoittaudu webinaariin viimeistään 23.11 klo 12:00. \n 
URL:https://finvac.org/event/finvac-webinaari-lammonvarastoinnin-hyodyt-ja-potentiaali-tulevaisuuden-energiajoustavissa-rakennuksissa/
LOCATION:Online
ATTACH;FMTTYPE=image/jpeg:https://finvac.org/wp-content/uploads/2020/10/COVIDwebinaari_500x300_24.11.2020.jpg
END:VEVENT
BEGIN:VEVENT
DTSTART;VALUE=DATE:20201125
DTEND;VALUE=DATE:20201126
DTSTAMP:20260426T035548
CREATED:20201022T085006Z
LAST-MODIFIED:20201022T085006Z
UID:1348-1606262400-1606348799@finvac.org
SUMMARY:SisäilmapajaX
DESCRIPTION:Sisäilma-alan ammattilaiset kohtaavat jälleen Sisäilmapajassa. Tänä vuonna SisäilmapajaX järjestetään virtuaalisena tapahtumana 25.11.2020. Mielenkiintoisen ohjelman lisäksi tapahtumassa on mahdollisuus verkostoitua ja tutustua sisäilma-aiheiseen\, virtuaaliseen näyttelyyn. Tapahtuma on osallistujille maksuton.
URL:https://finvac.org/event/sisailmapajax/
LOCATION:Online
ATTACH;FMTTYPE=image/png:https://finvac.org/wp-content/uploads/2020/10/SisailmapajaX_vaaka.png
END:VEVENT
END:VCALENDAR