BEGIN:VCALENDAR
VERSION:2.0
PRODID:-//FINVAC - ECPv6.15.20//NONSGML v1.0//EN
CALSCALE:GREGORIAN
METHOD:PUBLISH
X-ORIGINAL-URL:https://finvac.org
X-WR-CALDESC:Tapahtumat FINVAC
REFRESH-INTERVAL;VALUE=DURATION:PT1H
X-Robots-Tag:noindex
X-PUBLISHED-TTL:PT1H
BEGIN:VTIMEZONE
TZID:Europe/Helsinki
BEGIN:DAYLIGHT
TZOFFSETFROM:+0200
TZOFFSETTO:+0300
TZNAME:EEST
DTSTART:20200329T010000
END:DAYLIGHT
BEGIN:STANDARD
TZOFFSETFROM:+0300
TZOFFSETTO:+0200
TZNAME:EET
DTSTART:20201025T010000
END:STANDARD
BEGIN:DAYLIGHT
TZOFFSETFROM:+0200
TZOFFSETTO:+0300
TZNAME:EEST
DTSTART:20210328T010000
END:DAYLIGHT
BEGIN:STANDARD
TZOFFSETFROM:+0300
TZOFFSETTO:+0200
TZNAME:EET
DTSTART:20211031T010000
END:STANDARD
BEGIN:DAYLIGHT
TZOFFSETFROM:+0200
TZOFFSETTO:+0300
TZNAME:EEST
DTSTART:20220327T010000
END:DAYLIGHT
BEGIN:STANDARD
TZOFFSETFROM:+0300
TZOFFSETTO:+0200
TZNAME:EET
DTSTART:20221030T010000
END:STANDARD
END:VTIMEZONE
BEGIN:VEVENT
DTSTART;VALUE=DATE:20210215
DTEND;VALUE=DATE:20210216
DTSTAMP:20260425T230835
CREATED:20200610T143807Z
LAST-MODIFIED:20201103T081650Z
UID:782-1613347200-1613433599@finvac.org
SUMMARY:Roomvent 2020 online
DESCRIPTION:For the safety of all the attendees we have decided to move Roomvent2020 to 2021 and on a virtual platform. \nFrom February 15th 2021 the full virtual congress with keynote speakers\, presenters\, workshops and sponsors will be available on-line for all the registered participants.
URL:https://finvac.org/event/roomvent-2020/
LOCATION:Online
ATTACH;FMTTYPE=image/png:https://finvac.org/wp-content/uploads/2020/06/roomvent2020logo.png
END:VEVENT
BEGIN:VEVENT
DTSTART;VALUE=DATE:20210224
DTEND;VALUE=DATE:20210227
DTSTAMP:20260425T230835
CREATED:20200916T130830Z
LAST-MODIFIED:20200916T130830Z
UID:1291-1614124800-1614383999@finvac.org
SUMMARY:World Sustainable Energy Days
DESCRIPTION:
URL:https://finvac.org/event/world-sustainable-energy-days/
LOCATION:Wels/Austria\, Wels\, Itävalta
END:VEVENT
END:VCALENDAR