BEGIN:VCALENDAR
VERSION:2.0
PRODID:-//FINVAC - ECPv6.15.20//NONSGML v1.0//EN
CALSCALE:GREGORIAN
METHOD:PUBLISH
X-WR-CALNAME:FINVAC
X-ORIGINAL-URL:https://finvac.org
X-WR-CALDESC:Tapahtumat FINVAC
REFRESH-INTERVAL;VALUE=DURATION:PT1H
X-Robots-Tag:noindex
X-PUBLISHED-TTL:PT1H
BEGIN:VTIMEZONE
TZID:Europe/Helsinki
BEGIN:DAYLIGHT
TZOFFSETFROM:+0200
TZOFFSETTO:+0300
TZNAME:EEST
DTSTART:20200329T010000
END:DAYLIGHT
BEGIN:STANDARD
TZOFFSETFROM:+0300
TZOFFSETTO:+0200
TZNAME:EET
DTSTART:20201025T010000
END:STANDARD
BEGIN:DAYLIGHT
TZOFFSETFROM:+0200
TZOFFSETTO:+0300
TZNAME:EEST
DTSTART:20210328T010000
END:DAYLIGHT
BEGIN:STANDARD
TZOFFSETFROM:+0300
TZOFFSETTO:+0200
TZNAME:EET
DTSTART:20211031T010000
END:STANDARD
BEGIN:DAYLIGHT
TZOFFSETFROM:+0200
TZOFFSETTO:+0300
TZNAME:EEST
DTSTART:20220327T010000
END:DAYLIGHT
BEGIN:STANDARD
TZOFFSETFROM:+0300
TZOFFSETTO:+0200
TZNAME:EET
DTSTART:20221030T010000
END:STANDARD
END:VTIMEZONE
BEGIN:VEVENT
DTSTART;TZID=Europe/Helsinki:20210409T090000
DTEND;TZID=Europe/Helsinki:20210409T103000
DTSTAMP:20260425T193340
CREATED:20210201T140504Z
LAST-MODIFIED:20210526T061718Z
UID:1415-1617958800-1617964200@finvac.org
SUMMARY:FINVAC webinaari - Rakennuksen painesuhteiden hallinta
DESCRIPTION:Katso tallenne ja tutustu esityksiin…\nOhjelma\n9:00 Avaus\, prof. Risto Kosonen \nRakennusvaipan ilmanpitävyyden ja ilmavirtojen säätötarkkuuteen merkitys\nJohtava asiantuntija\, DI Lari Eskola\, A-Insinöörit \nKorkeiden asuinrakennuksien erityispiirteet\nKehityspäällikkö\, DI Ilari Ranta-aho\, Ramboll \nTarpeenmukaisen ilmanvaihdon haasteet ja ratkaisumalleja asuinkerrostaloissa\nLaboratorioinsinööri\, TkT Simo Kilpeläinen\, Aalto-yliopisto \nIlmanvaihdon toiminnan varmistaminen ja jatkuva paine-eroseuranta\nErityisasiantuntija\, LVI-insinööri (AMK) Pasi Pipatti\, Senaatti-kiinteistöt \nKysymykset \n10:30 Webinaari päättyy (tarvittaessa keskustelua on mahdollista jatkaa klo 11 asti) \n  \nIlmoittaudu webinaariin tästä
URL:https://finvac.org/event/finvac-webinaari-rakennuksen-painesuhteiden-hallinta/
LOCATION:Online
ATTACH;FMTTYPE=image/jpeg:https://finvac.org/wp-content/uploads/2021/02/Webinaari-9.4.2021_640x2502.jpg
END:VEVENT
BEGIN:VEVENT
DTSTART;VALUE=DATE:20210420
DTEND;VALUE=DATE:20210422
DTSTAMP:20260425T193340
CREATED:20200610T144135Z
LAST-MODIFIED:20201105T124343Z
UID:785-1618876800-1619049599@finvac.org
SUMMARY:Cold Climate HVAC & Energy 2021 online
DESCRIPTION:Cold Climate HVAC & Energy 2021 will be held as full virtual conference. \nThe full virtual congress with keynote speakers\, presenters\, workshops and sponsors will be available online on virtual platform as a two-day conference on April 20-21\, 2021. \nCheck the new reduced registration fees and abstract submission on the webpage! \nWhile we are thankful for already submitted 115 abstracts\, the abstract submission will be reopened until November 30\, 2020 as the new information might encourage new submissions. \nScientific conference papers will be published in E3S Web of Conferences and indexed in Scopus and other databases including attribution of DOI Names and indexation to CrossRef®. \nCall for workshop proposals: If you are interested to organise a workshop during the conference\, please fill in a short workshop proposal template you find on the webpage. \nThis international SCANVAC conference is dedicated to heating\, ventilation and air conditioning systems performance closely combined with healthy indoor climate and highly energy performing buildings. This year the conference scope is first time extended to cover energy performance and management of buildings in order to support nearly zero energy buildings development both in newbuild and deep renovation. The focus of the conference is on the technology for cold climate conditions. The conference is supported especially by the associations and professionals from Nordic countries.
URL:https://finvac.org/event/cold-climate-hvac-energy-2021/
LOCATION:Online
ATTACH;FMTTYPE=image/png:https://finvac.org/wp-content/uploads/2020/06/HVAC2021-logo.png
END:VEVENT
BEGIN:VEVENT
DTSTART;TZID=Europe/Helsinki:20210423T090000
DTEND;TZID=Europe/Helsinki:20210423T103000
DTSTAMP:20260425T193340
CREATED:20210421T072342Z
LAST-MODIFIED:20210421T072342Z
UID:1462-1619168400-1619173800@finvac.org
SUMMARY:Asuntojen ylilämpeneminen muuttuvassa ilmastossa webinaari
DESCRIPTION:Sisäilmayhdistyksen järjestämä webinaari.
URL:https://finvac.org/event/asuntojen-ylilampeneminen-muuttuvassa-ilmastossa-webinaari/
LOCATION:Online
END:VEVENT
BEGIN:VEVENT
DTSTART;TZID=Europe/Helsinki:20210428T150000
DTEND;TZID=Europe/Helsinki:20210428T164500
DTSTAMP:20260425T193340
CREATED:20210326T130050Z
LAST-MODIFIED:20210526T061933Z
UID:1437-1619622000-1619628300@finvac.org
SUMMARY:SCANVAC webinar - COVID-19 and ventilation
DESCRIPTION:Katso tallenne ja tutustu esityksiin…\nSCANVAC järjestää webinaarin\, joka käsittelee COVID-19 ja ilmanvaihtoa. \nOhjelma\n(kellonajat Suomen aikaa) \n15:00 Welcome\, SCANVAC president Risto Kosonen \nAdapting REHVA COVID-19 guidelines to Norway\nProfessor Guangyu Cao\, NTNU – Norwegian university of science and technology \nDanvak Covid-19 – A cross discipline project involving medical\, architectural and ventilation specialists\nSecretary General Claus Andreasson\, Danvak and Professor Torben Sigsgaard Institute of Public Health\, Section for Environment\, Occupation & Health at Aarhus University\, Denmark \nControl of indoor air humidity – Reasons and risks\nProfessor Lars Ekberg\, Chalmers University of Technology\, Gothenburg\, Sweden \nCriteria of room air cleaners for particulate matter\nProfessor Olli Seppänen\, President of FINVAC \n​Questions & answers \n16:45 Closing \nIlmoittautuminen\nIlmoittaudu webinaarin
URL:https://finvac.org/event/scanvac-webinar-covid-19-and-ventilation/
LOCATION:Online
ATTACH;FMTTYPE=image/jpeg:https://finvac.org/wp-content/uploads/2021/03/scanvacwebinar2021_1_original.jpg
END:VEVENT
END:VCALENDAR