BEGIN:VCALENDAR
VERSION:2.0
PRODID:-//FINVAC - ECPv6.15.20//NONSGML v1.0//EN
CALSCALE:GREGORIAN
METHOD:PUBLISH
X-WR-CALNAME:FINVAC
X-ORIGINAL-URL:https://finvac.org
X-WR-CALDESC:Tapahtumat FINVAC
REFRESH-INTERVAL;VALUE=DURATION:PT1H
X-Robots-Tag:noindex
X-PUBLISHED-TTL:PT1H
BEGIN:VTIMEZONE
TZID:Europe/Helsinki
BEGIN:DAYLIGHT
TZOFFSETFROM:+0200
TZOFFSETTO:+0300
TZNAME:EEST
DTSTART:20210328T010000
END:DAYLIGHT
BEGIN:STANDARD
TZOFFSETFROM:+0300
TZOFFSETTO:+0200
TZNAME:EET
DTSTART:20211031T010000
END:STANDARD
BEGIN:DAYLIGHT
TZOFFSETFROM:+0200
TZOFFSETTO:+0300
TZNAME:EEST
DTSTART:20220327T010000
END:DAYLIGHT
BEGIN:STANDARD
TZOFFSETFROM:+0300
TZOFFSETTO:+0200
TZNAME:EET
DTSTART:20221030T010000
END:STANDARD
BEGIN:DAYLIGHT
TZOFFSETFROM:+0200
TZOFFSETTO:+0300
TZNAME:EEST
DTSTART:20230326T010000
END:DAYLIGHT
BEGIN:STANDARD
TZOFFSETFROM:+0300
TZOFFSETTO:+0200
TZNAME:EET
DTSTART:20231029T010000
END:STANDARD
END:VTIMEZONE
BEGIN:VEVENT
DTSTART;TZID=Europe/Helsinki:20220128T090000
DTEND;TZID=Europe/Helsinki:20220128T110000
DTSTAMP:20260425T044941
CREATED:20220121T171630Z
LAST-MODIFIED:20220121T171712Z
UID:1753-1643360400-1643367600@finvac.org
SUMMARY:Miten pandemiat muuttavat rakennuksia ja niiden käyttöä? (VTT)
DESCRIPTION:VTT järjestää yhdessä Sisäilmaekosysteemin ja E3-hankkeen kanssa webinaarin\, jossa paneudutaan eri alojen johtavien asiantuntijoiden kanssa olennaisimpiin pandemiantorjuntakeinoihin sisätiloissa\, esittellään matalalla kynnyksellä käyttöön otettavia teknisiä suojautumiskeinoja pandemian leviämistä vastaan sekä mietitään yhdessä uusia strategioita ja teknologisia ratkaisuja tulevien pandemioiden vaikutusten minimoimiseksi. \nTilaisuuden kohderyhmiä ovat kiinteistöjen omistajat\, rakentajat\, suunnittelijat\, teknologiayritykset\, viranomaiset ja aihepiiristä kiinnostuneet rakennusten käyttäjät. \nOhjelma ja ilmoittautuminen\n 
URL:https://finvac.org/event/miten-pandemiat-muuttavat-rakennuksia-ja-niiden-kayttoa/
LOCATION:Online
END:VEVENT
END:VCALENDAR