BEGIN:VCALENDAR
VERSION:2.0
PRODID:-//FINVAC - ECPv6.15.20//NONSGML v1.0//EN
CALSCALE:GREGORIAN
METHOD:PUBLISH
X-WR-CALNAME:FINVAC
X-ORIGINAL-URL:https://finvac.org
X-WR-CALDESC:Tapahtumat FINVAC
REFRESH-INTERVAL;VALUE=DURATION:PT1H
X-Robots-Tag:noindex
X-PUBLISHED-TTL:PT1H
BEGIN:VTIMEZONE
TZID:Europe/Helsinki
BEGIN:DAYLIGHT
TZOFFSETFROM:+0200
TZOFFSETTO:+0300
TZNAME:EEST
DTSTART:20210328T010000
END:DAYLIGHT
BEGIN:STANDARD
TZOFFSETFROM:+0300
TZOFFSETTO:+0200
TZNAME:EET
DTSTART:20211031T010000
END:STANDARD
BEGIN:DAYLIGHT
TZOFFSETFROM:+0200
TZOFFSETTO:+0300
TZNAME:EEST
DTSTART:20220327T010000
END:DAYLIGHT
BEGIN:STANDARD
TZOFFSETFROM:+0300
TZOFFSETTO:+0200
TZNAME:EET
DTSTART:20221030T010000
END:STANDARD
BEGIN:DAYLIGHT
TZOFFSETFROM:+0200
TZOFFSETTO:+0300
TZNAME:EEST
DTSTART:20230326T010000
END:DAYLIGHT
BEGIN:STANDARD
TZOFFSETFROM:+0300
TZOFFSETTO:+0200
TZNAME:EET
DTSTART:20231029T010000
END:STANDARD
END:VTIMEZONE
BEGIN:VEVENT
DTSTART;TZID=Europe/Helsinki:20220309T090000
DTEND;TZID=Europe/Helsinki:20220309T103000
DTSTAMP:20260425T013213
CREATED:20220202T114221Z
LAST-MODIFIED:20220311T114632Z
UID:1761-1646816400-1646821800@finvac.org
SUMMARY:FINVAC webinaari –  Rakennusten energiatehokkuusdirektiivi 2022
DESCRIPTION:Osana EU:n ”Fit for 2055” pakettia kuuluu Rakennusten energiatehokkuusdirektiivin uusiminen. Tavoitteena on erityisesti rakennuskannan energiatehokkuuden parantaminen. Direktiivi uudistuu nyt kolmannen kerran. Komission uusi ehdotus julkaistiin joulukuussa 2021. Se on nyt jäsenmaissa tarkasteltavana ennen kuin ehdotuksen käsittely EU:n neuvostossa ja parlamentissa alkaa. \nWebinaarissa selviää mistä on kyse ja miten direktiivi tulee lähivuosina vaikuttamaan koko rakennusalaan ja sen säätelyyn. \nWebinaari on tarkoitettu kaikille alan kehitystä seuraaville ja uusista liiketoimintamahdollisuuksista kiinnostuneille. Webinaarissa saat hyvän kokonaiskuvan mitä uusia vaatimuksia on tulossa ja tarkemman kuvauksen muutamasta keskeisestä yksityiskohdasta. \n  \nOhjelma\n9:00 Avaus\, Olli Seppänen\, FINVAC \nMiten EPBD vaatimukset kiristyvät\nMaarit Haakana\, ympäristöministeriö \nEPBD 2021 ehdotuksen esittely\nOlli Seppänen \nUusiutuva energia nollapäästöisen rakennuksen määrittelyssä\nJarek Kurnitski\, Aalto yliopisto \nOnko rakennusten korjaaminen nollapäästöiseksi mahdollista?\nJani Kemppainen\, Rakennusteollisuus \nRakennusten älyvalmiusindikaattori\nJaakko Ketomäki\, Motiva\, Aalto yliopisto \n10:30 Webinaari päättyy \n  \nKatso tallenne\n 
URL:https://finvac.org/event/finvac-webinaari-rakennusten-energiatehokkuusdirektiivi-2022/
LOCATION:Online
ATTACH;FMTTYPE=image/jpeg:https://finvac.org/wp-content/uploads/2022/02/FINVAC_webinaari.jpeg
END:VEVENT
BEGIN:VEVENT
DTSTART;VALUE=DATE:20220315
DTEND;VALUE=DATE:20220316
DTSTAMP:20260425T013213
CREATED:20210601T071639Z
LAST-MODIFIED:20210603T072834Z
UID:1511-1647302400-1647388799@finvac.org
SUMMARY:Sisäilmastoseminaari 2022
DESCRIPTION:
URL:https://finvac.org/event/sisailmastoseminaari-2022/
LOCATION:Messukeskus\, Messuaukio 1\, Helsinki\, 00520\, Finland
END:VEVENT
BEGIN:VEVENT
DTSTART;TZID=Europe/Helsinki:20220331T143000
DTEND;TZID=Europe/Helsinki:20220331T160000
DTSTAMP:20260425T013213
CREATED:20220311T114158Z
LAST-MODIFIED:20220404T115110Z
UID:1794-1648737000-1648742400@finvac.org
SUMMARY:FINVAC webinaari - Parantavatko huoneilmanpuhdistimet sisäilman laatua?
DESCRIPTION:Ilmanpuhdistaminen erillisillä laitteilla on ollut esillä viime vuosina erityisen paljon\, osittain koronapandemian vuoksi. Ilmassa on virusten lisäksi myös paljon muita epäpuhtauksia\, osa hyvin haitallisia\, osa vähemmän. Ilmanpuhdistimilla voidaan poistaa ilmasta melkein mitä epäpuhtauksia tahansa\, mutta mihin pitäisi keskittyä? On myös esitetty\, että ilmaa puhdistamalla ilmanvaihto voidaan korvata joko osittain tai kokonaan\, mutta onko todella näin? Seminaarissa kuvataan ilmanpuhdistuksen mahdollisuuksia ja tulevaisuutta sekä toimenpiteitä puhdistimien tehokkaan ja terveyttä edistävän käytön edistämiseksi. \nSeminaari on tarkoitettu kaikille hyvästä sisäilman laadusta kiinnostuneille\, erityisesti korjaustoimia suunnitteleville ja toteuttaville. \n  \nOhjelma\n14.30 Avaus\, Olli Seppänen\, FINVAC \nMitä epäpuhtauksia huoneilmassa on ja mitä tulisi poistaa\nHanna Leppänen\, THL \nMiten epäpuhtauksia voidaan poistaa ilmasta\nAimo Taipale\, VTT \nHelsingin kaupungin toimintatavat ja kokemukset ilmanpuhdistimien käytössä\nAnna Saarinen\, Helsingin kaupunki \n16.00 Webinaari päättyy \n  \nKatso tallenne\n  \nPuhujat\n \nHanna Leppänen \nErikoistutkija Hanna Leppänen toimii Terveyden ja hyvinvoinnin laitoksen Sisäympäristöt-tiimissä. \nFT\, jolla 15 vuoden kokemus sisäilma-altistumiseen liittyvistä tekijöistä sekä niiden hallintaan liittyvistä toimenpiteistä. \nOllut kokoamassa THL:n ohjeistusta ilmanvaihdon käytöstä koronaviruksen aerosolivälitteisen leviämisen riskin vähentämiseksi. \n  \n \nAimo Taipale \nDI\, erikoistutkija Aimo Taipale on toiminut eri tehtävissä VTT puhdasilmaratkaisut -tiimissä yli 25 vuoden ajan. Pääasiallisia tutkimuskohteita ovat olleet ilman kautta leviävien ja ihmisen terveydelle haitallisten epäpuhtauksien torjuntamenetelmät\, kuten ilmanvaihto- ja suodatustekniikat sekä erilaiset ilmanpuhdistusratkaisut. Julkisen tutkimuksen lisäksi merkittävässä roolissa on ollut kyseisten teknologioiden kehittäminen tuotteiksi yhteistyössä alan yritysten kanssa. \nAimo on osallistunut myös kansainvälisten suodatinmittausstandardien taustatutkimuksiin ja ilmansuodattimien tehokkuuden mittausmenetelmien kehittämiseen sekä laboratoriossa että kenttäolosuhteissa. \n  \n \nAnna Saarinen \nAnna Saarinen toimii Helsingin kaupungin kaupunkiympäristön toimialan sisäilmatiimin tiimipäällikkönä. Tiimi teettää kaupungin palvelurakennusten sisäilmatutkimukset ja tekee tilojen radonmittaukset\, vastaa sisäilmaviestinnästä sekä osallistuu korjaus- ja rakentamishankkeisiin. \nHän on työskennellyt sisäilma-asioiden parissa erilaisissa rooleissa yli 20 vuoden ajan. Näkökulmaa on kertynyt tutkijana\, terveydensuojeluviranomaisena\, kehittämispäällikkönä ja nyt kiinteistöjen omistajan edustajana. \nAnna on Helsingin kaupungin sisäilmaryhmän varapuheenjohtaja sekä Kuntien sisäilmaverkoston ohjausryhmän ja Sisäilmastoseminaarin ohjausryhmän jäsen.
URL:https://finvac.org/event/finvac-webinaari-parantavatko-huoneilmanpuhdistimet-sisailman-laatua/
ATTACH;FMTTYPE=image/jpeg:https://finvac.org/wp-content/uploads/2022/03/FINVAC_webinaari-3103-1.jpeg
END:VEVENT
END:VCALENDAR