BEGIN:VCALENDAR
VERSION:2.0
PRODID:-//FINVAC - ECPv6.15.20//NONSGML v1.0//EN
CALSCALE:GREGORIAN
METHOD:PUBLISH
X-ORIGINAL-URL:https://finvac.org
X-WR-CALDESC:Tapahtumat FINVAC
REFRESH-INTERVAL;VALUE=DURATION:PT1H
X-Robots-Tag:noindex
X-PUBLISHED-TTL:PT1H
BEGIN:VTIMEZONE
TZID:Europe/Helsinki
BEGIN:DAYLIGHT
TZOFFSETFROM:+0200
TZOFFSETTO:+0300
TZNAME:EEST
DTSTART:20220327T010000
END:DAYLIGHT
BEGIN:STANDARD
TZOFFSETFROM:+0300
TZOFFSETTO:+0200
TZNAME:EET
DTSTART:20221030T010000
END:STANDARD
BEGIN:DAYLIGHT
TZOFFSETFROM:+0200
TZOFFSETTO:+0300
TZNAME:EEST
DTSTART:20230326T010000
END:DAYLIGHT
BEGIN:STANDARD
TZOFFSETFROM:+0300
TZOFFSETTO:+0200
TZNAME:EET
DTSTART:20231029T010000
END:STANDARD
BEGIN:DAYLIGHT
TZOFFSETFROM:+0200
TZOFFSETTO:+0300
TZNAME:EEST
DTSTART:20240331T010000
END:DAYLIGHT
BEGIN:STANDARD
TZOFFSETFROM:+0300
TZOFFSETTO:+0200
TZNAME:EET
DTSTART:20241027T010000
END:STANDARD
END:VTIMEZONE
BEGIN:VEVENT
DTSTART;VALUE=DATE:20230306
DTEND;VALUE=DATE:20230309
DTSTAMP:20260424T062900
CREATED:20221014T170655Z
LAST-MODIFIED:20221014T170655Z
UID:2075-1678060800-1678319999@finvac.org
SUMMARY:HVAC Cold Climates Conference 2023
DESCRIPTION:The goal of this International conference is for Built Environment engineers\, practitioners\, researchers\, scientists\, owners and government officials working in Cold Climate regions to share recent solutions and advancements addressing changes in climate; while experiencing the warmth\, hospitality and culture of Alaska.
URL:https://finvac.org/event/hvac-cold-climates-conference-2023/
LOCATION:Marriott Anchorage Downtown\, Anchorage\, Alaska
END:VEVENT
BEGIN:VEVENT
DTSTART;VALUE=DATE:20230313
DTEND;VALUE=DATE:20230318
DTSTAMP:20260424T062900
CREATED:20230214T165754Z
LAST-MODIFIED:20230214T165754Z
UID:2209-1678665600-1679097599@finvac.org
SUMMARY:ISH 2023
DESCRIPTION:The world’s leading trade fair for HVAC + Water invites you to Frankfurt am Main again from 13 to 17 March 2023. \nMore info…
URL:https://finvac.org/event/ish-2023/
LOCATION:Messe Frankfurt GmbH\, Ludwig-Erhard-Anlage 1\, Frankfurt a. M.\, 60327\, Saksa
END:VEVENT
BEGIN:VEVENT
DTSTART;VALUE=DATE:20230314
DTEND;VALUE=DATE:20230315
DTSTAMP:20260424T062900
CREATED:20221014T165425Z
LAST-MODIFIED:20221014T165425Z
UID:2065-1678752000-1678838399@finvac.org
SUMMARY:Sisäilmastoseminaari 2023
DESCRIPTION:Jätä esitelmäehdotuksesi viimeistään 31.10.2022 \nSisäilmayhdistys kutsuu sisäilmateeman parissa työskenteleviä ammattilaisia esittelemään ajankohtaiset sisäympäristön aihealueeseen liittyvät tutkimukset\, selvitykset\, kirjallisuuskatsaukset\, ohjeistukset ja hankkeiden tuotokset Sisäilmastoseminaarissa 14.3.2023. \n 
URL:https://finvac.org/event/sisailmastoseminaari-2023/
LOCATION:Messukeskus Siipi\, Messuaukio 1\, Helsinki\, 00520\, Suomi
END:VEVENT
END:VCALENDAR